BEGIN:VCALENDAR
VERSION:2.0
PRODID:-//Squarespace Inc/Squarespace 6//v6//EN
BEGIN:VEVENT
UID:5843357de4fcb5ef4d132a0d@squarespace.com
DTSTAMP:20171213T221938Z
DTSTART:20181119T053000Z
DTEND:20181125T030000Z
SUMMARY:High Country Horsemanship and stock work ride- fully booked
END:VEVENT
END:VCALENDAR
