BEGIN:VCALENDAR
VERSION:2.0
PRODID:-//Squarespace Inc/Squarespace 6//v6//EN
BEGIN:VEVENT
UID:58424a15e3df28eae5e7de45@squarespace.com
DTSTAMP:20210112T024216Z
DTSTART:20220324T220000Z
DTEND:20220327T050000Z
SUMMARY:3 day 2 night Craig's Hut and High Country ride- Saddles Available
END:VEVENT
END:VCALENDAR
