BEGIN:VCALENDAR
VERSION:2.0
PRODID:-//Squarespace Inc/Squarespace 6//v6//EN
BEGIN:VEVENT
UID:5842273dd1758e37a118e289@squarespace.com
DTSTAMP:20200705T040814Z
DTSTART:20201023T060000Z
DTEND:20201025T043000Z
SUMMARY:2 day 2 night Howqua anniversary ride- returning guests only (horse 
 riders full)
END:VEVENT
END:VCALENDAR
