BEGIN:VCALENDAR
VERSION:2.0
PRODID:-//Squarespace Inc/Squarespace 6//v6//EN
BEGIN:VEVENT
UID:5719b4eba3360c45a6ff299c@squarespace.com
DTSTAMP:20200526T013435Z
DTSTART:20201030T223000Z
DTEND:20201102T050000Z
SUMMARY: 3 Day 2 night Seeforth Station and Howqua River ride- saddles avai
 lable
END:VEVENT
END:VCALENDAR
