BEGIN:VCALENDAR
VERSION:2.0
PRODID:-//Squarespace Inc/Squarespace 6//v6//EN
BEGIN:VEVENT
UID:5ffcf4939ecea8262e73f7ac@squarespace.com
DTSTAMP:20210129T074308Z
DTSTART:20220309T223000Z
DTEND:20220315T050000Z
SUMMARY:6 day Lovicks Hut and Man from Snowy River ride- private group book
 ing
END:VEVENT
END:VCALENDAR
