BEGIN:VCALENDAR
VERSION:2.0
PRODID:-//Squarespace Inc/Squarespace 6//v6//EN
BEGIN:VEVENT
UID:5ffcfa83179f322ce8cecc68@squarespace.com
DTSTAMP:20210113T050402Z
DTSTART:20211203T053000Z
DTEND:20211205T040000Z
SUMMARY: 2 Day 2 night Howqua River ride- saddles available 
END:VEVENT
END:VCALENDAR
