BEGIN:VCALENDAR
VERSION:2.0
PRODID:-//Squarespace Inc/Squarespace 6//v6//EN
BEGIN:VEVENT
UID:570890ef746fb9dec49ad2ef@squarespace.com
DTSTAMP:20181226T030310Z
DTSTART:20190104T220000Z
DTEND:20190112T050000Z
SUMMARY:6 day Bogong High Plains Ride- Brumby Country! fully booked
END:VEVENT
END:VCALENDAR
