BEGIN:VCALENDAR
VERSION:2.0
PRODID:-//Squarespace Inc/Squarespace 6//v6//EN
BEGIN:VEVENT
UID:5719b6a059827ebe0757902d@squarespace.com
DTSTAMP:20160422T052904Z
DTSTART:20160422T053000Z
DTEND:20160422T063000Z
SUMMARY:4 day High Country ride- fully booked 
END:VEVENT
END:VCALENDAR
