BEGIN:VCALENDAR
VERSION:2.0
PRODID:-//Squarespace Inc/Squarespace 6//v6//EN
BEGIN:VEVENT
UID:558656f3e4b04f6516e1cf58@squarespace.com
DTSTAMP:20160201T013402Z
DTSTART:20160310T223000Z
DTEND:20160314T053000Z
SUMMARY:4 day Craig's Hut and High Country ride- booked out
END:VEVENT
END:VCALENDAR
