BEGIN:VCALENDAR
VERSION:2.0
PRODID:-//Squarespace Inc/Squarespace 6//v6//EN
BEGIN:VEVENT
UID:55874dbfe4b0afbde9716403@squarespace.com
DTSTAMP:20160201T013431Z
DTSTART:20160324T230000Z
DTEND:20160328T050000Z
SUMMARY:4 day Easter High Country ride- 2 saddles left
END:VEVENT
END:VCALENDAR
