BEGIN:VCALENDAR
VERSION:2.0
PRODID:-//Squarespace Inc/Squarespace 6//v6//EN
BEGIN:VEVENT
UID:561f70a5e4b096cf99c8faa3@squarespace.com
DTSTAMP:20160127T014218Z
DTSTART:20160226T223000Z
DTEND:20160228T050000Z
SUMMARY:2 day Howqua River Ride- 4 saddles left
END:VEVENT
END:VCALENDAR
