BEGIN:VCALENDAR
VERSION:2.0
PRODID:-//Squarespace Inc/Squarespace 6//v6//EN
BEGIN:VEVENT
UID:58422e5c44024382e453d727@squarespace.com
DTSTAMP:20170912T052443Z
DTSTART:20171103T223000Z
DTEND:20171106T040000Z
SUMMARY:3 day Howqua River and Cattlemen's Hut Ride- fully booked
END:VEVENT
END:VCALENDAR
