BEGIN:VCALENDAR
VERSION:2.0
PRODID:-//Squarespace Inc/Squarespace 6//v6//EN
BEGIN:VEVENT
UID:583c0bc629687f08e05215c4@squarespace.com
DTSTAMP:20190129T051348Z
DTSTART:20190309T220000Z
DTEND:20190310T050000Z
SUMMARY:Full day Craig's Hut and High Country ride
END:VEVENT
END:VCALENDAR
