BEGIN:VCALENDAR
VERSION:2.0
PRODID:-//Squarespace Inc/Squarespace 6//v6//EN
BEGIN:VEVENT
UID:569837e0d8af1046350db19c@squarespace.com
DTSTAMP:20160409T043219Z
DTSTART:20161111T220000Z
DTEND:20161117T050000Z
SUMMARY:Annual Heritage Cattle Drive and High Country Ride -fully booked
END:VEVENT
END:VCALENDAR
