BEGIN:VCALENDAR
VERSION:2.0
PRODID:-//Squarespace Inc/Squarespace 6//v6//EN
BEGIN:VEVENT
UID:5698353bfb36b1a2d2c2bf04@squarespace.com
DTSTAMP:20210111T035321Z
DTSTART:20210104T220000Z
DTEND:20210108T050000Z
SUMMARY:4 day Craig's Hut and High Country ride- saddles available 
END:VEVENT
END:VCALENDAR
