BEGIN:VCALENDAR
VERSION:2.0
PRODID:-//Squarespace Inc/Squarespace 6//v6//EN
BEGIN:VEVENT
UID:55863b04e4b01ea9a585d2d7@squarespace.com
DTSTAMP:20160612T073305Z
DTSTART:20161210T223000Z
DTEND:20161216T053000Z
SUMMARY:6 Day Craig's Hut and High Country beyond ride- fully booked
END:VEVENT
END:VCALENDAR
