BEGIN:VCALENDAR
VERSION:2.0
PRODID:-//Squarespace Inc/Squarespace 6//v6//EN
BEGIN:VEVENT
UID:54dd460ee4b09b8f190eb88a@squarespace.com
DTSTAMP:20200505T002130Z
DTSTART:20210218T220000Z
DTEND:20210226T050000Z
SUMMARY:8 day Wonnangatta Station back country ride- see Globe Trotting for 
 bookings
END:VEVENT
END:VCALENDAR
