BEGIN:VCALENDAR
VERSION:2.0
PRODID:-//Squarespace Inc/Squarespace 6//v6//EN
BEGIN:VEVENT
UID:603aeca26607da3e67630c93@squarespace.com
DTSTAMP:20210228T011436Z
DTSTART:20220226T220000Z
DTEND:20220306T040000Z
SUMMARY:8 day Wonnangatta Station back country ride- saddles available 
END:VEVENT
END:VCALENDAR
