BEGIN:VCALENDAR
VERSION:2.0
PRODID:-//Squarespace Inc/Squarespace 6//v6//EN
BEGIN:VEVENT
UID:53e6f29fe4b0f1dbf94701f1@squarespace.com
DTSTAMP:20140810T042355Z
DTSTART:20150406T023000Z
DTEND:20150410T033000Z
SUMMARY:Kids bush horse camp
END:VEVENT
END:VCALENDAR
