BEGIN:VCALENDAR
VERSION:2.0
PRODID:-//Squarespace Inc/Squarespace 6//v6//EN
BEGIN:VEVENT
UID:5361ad89e4b0317988af35bc@squarespace.com
DTSTAMP:20140501T021347Z
DTSTART:20150306T223000Z
DTEND:20150309T053000Z
SUMMARY:3 day Labour Day 'Hideout' ride- fully booked
END:VEVENT
END:VCALENDAR
