BEGIN:VCALENDAR
VERSION:2.0
PRODID:-//Squarespace Inc/Squarespace 6//v6//EN
BEGIN:VEVENT
UID:53e6f1fce4b0879d899bfe89@squarespace.com
DTSTAMP:20140810T041815Z
DTSTART:20150327T223000Z
DTEND:20150331T053000Z
SUMMARY:4 day Craig's Hut and the High Country
END:VEVENT
END:VCALENDAR
