BEGIN:VCALENDAR
VERSION:2.0
PRODID:-//Squarespace Inc/Squarespace 6//v6//EN
BEGIN:VEVENT
UID:53e6f07fe4b08e6a837ae1b9@squarespace.com
DTSTAMP:20140810T041538Z
DTSTART:20150313T220000Z
DTEND:20150315T050000Z
SUMMARY:2 Day Craig's Hut and the High Counry
END:VEVENT
END:VCALENDAR
