BEGIN:VCALENDAR
VERSION:2.0
PRODID:-//Squarespace Inc/Squarespace 6//v6//EN
BEGIN:VEVENT
UID:545160e6e4b0f6fc70b45c75@squarespace.com
DTSTAMP:20150112T011613Z
DTSTART:20150227T220000Z
DTEND:20150227T230000Z
SUMMARY:Full Day Ride to Craig's Hut- Full
END:VEVENT
END:VCALENDAR
