BEGIN:VCALENDAR
VERSION:2.0
PRODID:-//Squarespace Inc/Squarespace 6//v6//EN
BEGIN:VEVENT
UID:5361ac87e4b0ff1ad7aea68e@squarespace.com
DTSTAMP:20141029T214858Z
DTSTART:20150227T223000Z
DTEND:20150301T053000Z
SUMMARY:2 day Craig's Hut and the High Country-fully booked
END:VEVENT
END:VCALENDAR
