BEGIN:VCALENDAR
VERSION:2.0
PRODID:-//Squarespace Inc/Squarespace 6//v6//EN
BEGIN:VEVENT
UID:54b0bf27e4b0c0c51f178435@squarespace.com
DTSTAMP:20210201T064616Z
DTSTART:20211115T220000Z
DTEND:20211119T050000Z
SUMMARY:4 day Craig's Hut and the High Country- 8 saddles available 
END:VEVENT
END:VCALENDAR
