BEGIN:VCALENDAR
VERSION:2.0
PRODID:-//Squarespace Inc/Squarespace 6//v6//EN
BEGIN:VEVENT
UID:5e7866dbd07f467077b3b2b8@squarespace.com
DTSTAMP:20210218T033652Z
DTSTART:20210322T220000Z
DTEND:20210326T050000Z
SUMMARY:4 day Craig's Hut and the High Country - Fully Booked!
END:VEVENT
END:VCALENDAR
