BEGIN:VCALENDAR
VERSION:2.0
PRODID:-//Squarespace Inc/Squarespace 6//v6//EN
BEGIN:VEVENT
UID:54a8d5bce4b07985e37277f4@squarespace.com
DTSTAMP:20150104T055639Z
DTSTART:20151106T220000Z
DTEND:20151108T050000Z
SUMMARY:Howqua River ride-Fully booked
END:VEVENT
END:VCALENDAR
