BEGIN:VCALENDAR
VERSION:2.0
PRODID:-//Squarespace Inc/Squarespace 6//v6//EN
BEGIN:VEVENT
UID:54b0bd65e4b0a4e434780fcf@squarespace.com
DTSTAMP:20201218T064300Z
DTSTART:20201227T220000Z
DTEND:20201230T050000Z
SUMMARY:3 Day Craig's Hut and the High Country- fully booked
END:VEVENT
END:VCALENDAR
