BEGIN:VCALENDAR
VERSION:2.0
PRODID:-//Squarespace Inc/Squarespace 6//v6//EN
BEGIN:VEVENT
UID:5ffbad082b262f3dd37d0456@squarespace.com
DTSTAMP:20210112T023550Z
DTSTART:20211227T220000Z
DTEND:20211229T050000Z
SUMMARY:2 Day Craig's Hut and the High Country- saddles available 
END:VEVENT
END:VCALENDAR
