BEGIN:VCALENDAR
VERSION:2.0
PRODID:-//Squarespace Inc/Squarespace 6//v6//EN
BEGIN:VEVENT
UID:5ffbd988ab8b306cc845d75c@squarespace.com
DTSTAMP:20210112T023605Z
DTSTART:20220121T220000Z
DTEND:20220123T050000Z
SUMMARY:2 Day Craig's Hut and the High Country- saddles available 
END:VEVENT
END:VCALENDAR
