BEGIN:VCALENDAR
VERSION:2.0
PRODID:-//Squarespace Inc/Squarespace 6//v6//EN
BEGIN:VEVENT
UID:5ffbd9e9d756af1ec09d5e81@squarespace.com
DTSTAMP:20210111T050005Z
DTSTART:20220127T220000Z
DTEND:20220130T050000Z
SUMMARY:3 Day Craig's Hut and the High Country- saddles available 
END:VEVENT
END:VCALENDAR
