BEGIN:VCALENDAR
VERSION:2.0
PRODID:-//Squarespace Inc/Squarespace 6//v6//EN
BEGIN:VEVENT
UID:54a8d634e4b0a61122db2508@squarespace.com
DTSTAMP:20150818T035357Z
DTSTART:20151030T220000Z
DTEND:20151101T060000Z
SUMMARY:Spring Howqua River ride! Some adventure in the Bush- fully booked
END:VEVENT
END:VCALENDAR
