BEGIN:VCALENDAR
VERSION:2.0
PRODID:-//Squarespace Inc/Squarespace 6//v6//EN
BEGIN:VEVENT
UID:5361a58ce4b0b9aa739c1f7a@squarespace.com
DTSTAMP:20140630T022930Z
DTSTART:20150106T220000Z
DTEND:20150113T050000Z
SUMMARY:7 Day Craig's Hut and the High Country- Fully Booked
END:VEVENT
END:VCALENDAR
