BEGIN:VCALENDAR
VERSION:2.0
PRODID:-//Squarespace Inc/Squarespace 6//v6//EN
BEGIN:VEVENT
UID:537018fce4b0b25ee9f649f0@squarespace.com
DTSTAMP:20140512T004442Z
DTSTART:20140512T010000Z
DTEND:20140915T020000Z
SUMMARY:El Questro Station\, The Kimberley Western Australia
END:VEVENT
END:VCALENDAR
