BEGIN:VCALENDAR
VERSION:2.0
PRODID:-//Squarespace Inc/Squarespace 6//v6//EN
BEGIN:VEVENT
UID:5361a791e4b09e1f27ea9b10@squarespace.com
DTSTAMP:20140501T021908Z
DTSTART:20150115T220000Z
DTEND:20150123T050000Z
SUMMARY:8 day Man from Snowy River's High Country
END:VEVENT
END:VCALENDAR
