BEGIN:VCALENDAR
VERSION:2.0
PRODID:-//Squarespace Inc/Squarespace 6//v6//EN
BEGIN:VEVENT
UID:52eafc01e4b0642f8d895191@squarespace.com
DTSTAMP:20140423T000446Z
DTSTART:20140424T023000Z
DTEND:20140427T033000Z
SUMMARY:4 day Anzac High Country
END:VEVENT
END:VCALENDAR
