BEGIN:VCALENDAR
VERSION:2.0
PRODID:-//Squarespace Inc/Squarespace 6//v6//EN
BEGIN:VEVENT
UID:53570f91e4b08052edaa234b@squarespace.com
DTSTAMP:20140501T015505Z
DTSTART:20141129T000000Z
DTEND:20141130T050000Z
SUMMARY:2 day Craig's Hut and the High Country
END:VEVENT
END:VCALENDAR
