BEGIN:VCALENDAR
VERSION:2.0
PRODID:-//Squarespace Inc/Squarespace 6//v6//EN
BEGIN:VEVENT
UID:5271dca3e4b01a5a08738c6f@squarespace.com
DTSTAMP:20140423T000847Z
DTSTART:20140331T213000Z
DTEND:20140430T093000Z
SUMMARY:April Daily Rides
END:VEVENT
END:VCALENDAR
