BEGIN:VCALENDAR
VERSION:2.0
PRODID:-//Squarespace Inc/Squarespace 6//v6//EN
BEGIN:VEVENT
UID:5271dc1ee4b0e2f87300c3f6@squarespace.com
DTSTAMP:20131031T042759Z
DTSTART:20140307T213000Z
DTEND:20140310T083000Z
SUMMARY:3 Day Craig's Hut & the High Country Ride
END:VEVENT
END:VCALENDAR
