BEGIN:VCALENDAR
VERSION:2.0
PRODID:-//Squarespace Inc/Squarespace 6//v6//EN
BEGIN:VEVENT
UID:5271dc60e4b0804eedbffda6@squarespace.com
DTSTAMP:20140423T001900Z
DTSTART:20140327T213000Z
DTEND:20140331T083000Z
SUMMARY:4 Day High Country & the Rivers
END:VEVENT
END:VCALENDAR
