BEGIN:VCALENDAR
VERSION:2.0
PRODID:-//Squarespace Inc/Squarespace 6//v6//EN
BEGIN:VEVENT
UID:53014babe4b09d3054b1d0aa@squarespace.com
DTSTAMP:20140423T002858Z
DTSTART:20140322T000000Z
DTEND:20140323T010000Z
SUMMARY:2 Day High Country
END:VEVENT
END:VCALENDAR
