BEGIN:VCALENDAR
VERSION:2.0
PRODID:-//Squarespace Inc/Squarespace 6//v6//EN
BEGIN:VEVENT
UID:5271db90e4b0bdb9a1d979b1@squarespace.com
DTSTAMP:20140131T012253Z
DTSTART:20140221T213000Z
DTEND:20140223T083000Z
SUMMARY:2 Day Craig's Hut and the High Country Ride
END:VEVENT
END:VCALENDAR
