BEGIN:VCALENDAR
VERSION:2.0
PRODID:-//Squarespace Inc/Squarespace 6//v6//EN
BEGIN:VEVENT
UID:5271db64e4b042bb9204248a@squarespace.com
DTSTAMP:20131031T042431Z
DTSTART:20140214T213000Z
DTEND:20140215T083000Z
SUMMARY:Full Day Craig's Hut Ride
END:VEVENT
END:VCALENDAR
