BEGIN:VCALENDAR
VERSION:2.0
PRODID:-//Squarespace Inc/Squarespace 6//v6//EN
BEGIN:VEVENT
UID:535713d6e4b09afeccfe8cfb@squarespace.com
DTSTAMP:20141029T214306Z
DTSTART:20141205T213000Z
DTEND:20141208T050000Z
SUMMARY:Private group weekend available!
END:VEVENT
END:VCALENDAR
