BEGIN:VCALENDAR
VERSION:2.0
PRODID:-//Squarespace Inc/Squarespace 6//v6//EN
BEGIN:VEVENT
UID:5361a37de4b06f620abd758e@squarespace.com
DTSTAMP:20140501T020452Z
DTSTART:20141230T223000Z
DTEND:20150101T053000Z
SUMMARY:2 day New Year Celebration ride to the 'Hideout'
END:VEVENT
END:VCALENDAR
