BEGIN:VCALENDAR
VERSION:2.0
PRODID:-//Squarespace Inc/Squarespace 6//v6//EN
BEGIN:VEVENT
UID:548f891ce4b0c4d8c3d28bb7@squarespace.com
DTSTAMP:20141216T012627Z
DTSTART:20141226T013000Z
DTEND:20141229T023000Z
SUMMARY:Daily Rides Between Christmas and New Year 
END:VEVENT
END:VCALENDAR
