BEGIN:VCALENDAR
VERSION:2.0
PRODID:-//Squarespace Inc/Squarespace 6//v6//EN
BEGIN:VEVENT
UID:535707e7e4b03a3c7d9db03c@squarespace.com
DTSTAMP:20140501T015523Z
DTSTART:20141107T233000Z
DTEND:20141109T050000Z
SUMMARY:2 Day Howqua River Ride- Fully Booked
END:VEVENT
END:VCALENDAR
