BEGIN:VCALENDAR
VERSION:2.0
PRODID:-//Squarespace Inc/Squarespace 6//v6//EN
BEGIN:VEVENT
UID:535709a4e4b0d272a27ba126@squarespace.com
DTSTAMP:20140501T015435Z
DTSTART:20141114T220000Z
DTEND:20141120T050000Z
SUMMARY:6 day Cattle Drive and High Country Ride
END:VEVENT
END:VCALENDAR
