BEGIN:VCALENDAR
VERSION:2.0
PRODID:-//Squarespace Inc/Squarespace 6//v6//EN
BEGIN:VEVENT
UID:52a546cfe4b0fc289f135b54@squarespace.com
DTSTAMP:20131209T043111Z
DTSTART:20140103T230000Z
DTEND:20140106T050000Z
SUMMARY:3 day Craig's Hut and the High Country
END:VEVENT
END:VCALENDAR
