BEGIN:VCALENDAR
VERSION:2.0
PRODID:-//Squarespace Inc/Squarespace 6//v6//EN
BEGIN:VEVENT
UID:52eafb42e4b03b5e9192dc47@squarespace.com
DTSTAMP:20140131T012622Z
DTSTART:20140418T023000Z
DTEND:20140421T033000Z
SUMMARY:Easter weekend
END:VEVENT
END:VCALENDAR
